BEGIN:VCALENDAR
VERSION:2.0
PRODID:-//ChamberMaster//Event Calendar 2.0//EN
METHOD:PUBLISH
X-PUBLISHED-TTL:P3D
REFRESH-INTERVAL:P3D
CALSCALE:GREGORIAN
BEGIN:VEVENT
DTSTART:20210626T133000Z
DTEND:20210626T190000Z
X-MICROSOFT-CDO-ALLDAYEVENT:FALSE
SUMMARY:Save the Old Gym Blitz Day
DESCRIPTION:Team Strongwhenweak is committed to making our community better. The Save the Old Gym project is worthwhile and will bring a sense of pride and meaning to our community. Built in 1940\, the Old Gym\, or "Alamo" as many call it\, is a staple of our community and many of us spent countless hours sweating in this gym growing up. Well\, it needs some TLC now\, and we are setting out to restore it to its original form as closely as possible. A separate account for this project has been set up at Texas First Bank and we're accepting donations specifically for this endeavor. If you'd like to donate or help in this cause\, instructions can be found on the flyer. \n\n\n\nThere's been lots of progress made so far. Any and all help is appreciated\, whether it be with demo and reconstruction\, monetary donations to help with reconstruction and/or just spreading the word. \n\n\n\nIt's a community full court press to preserve history
X-ALT-DESC;FMTTYPE=text/html:<div class="kvgmc6g5 cxmmr5t8 oygrvhab hcukyx3x c1et5uql ii04i59q" style="overflow-wrap: break-word\; margin: 0px\; white-space: pre-wrap\; font-family: &quot\;Segoe UI Historic&quot\;\, &quot\;Segoe UI&quot\;\, Helvetica\, Arial\, sans-serif\; color: rgb(5\, 5\, 5)\; font-size: 15px\;">\n<div dir="auto" style="font-family: inherit\;"><span style="color: rgb(5\, 5\, 5)\; font-family: &quot\;Segoe UI Historic&quot\;\, &quot\;Segoe UI&quot\;\, Helvetica\, Arial\, sans-serif\; font-size: 15px\; white-space: pre-wrap\;">Team Strongwhenweak is committed to making our community better. The Save the Old Gym project is worthwhile and will bring a sense of pride and meaning to our community. Built in 1940\, the Old Gym\, or &quot\;Alamo&quot\; as many call it\, is a staple of our community and many of us spent countless hours sweating in this gym growing up. Well\, it needs some TLC now\, and we are setting out to restore it to its original form as closely as possible. A separate account for this project has been set up at Texas First Bank and we&#39\;re accepting donations specifically for this endeavor. If you&#39\;d like to donate or help in this cause\, instructions can be found on the flyer. </span><br />\n<br />\nThere&rsquo\;s been lots of progress made so far. Any and all help is appreciated\, whether it be with demo and reconstruction\, monetary donations to help with reconstruction and/or just spreading the word.&#65532\;</div>\n</div>\n\n<div class="o9v6fnle cxmmr5t8 oygrvhab hcukyx3x c1et5uql ii04i59q" style="overflow-wrap: break-word\; margin: 0.5em 0px 0px\; white-space: pre-wrap\; font-family: &quot\;Segoe UI Historic&quot\;\, &quot\;Segoe UI&quot\;\, Helvetica\, Arial\, sans-serif\; color: rgb(5\, 5\, 5)\; font-size: 15px\;">\n<div dir="auto" style="font-family: inherit\;">It&rsquo\;s a community full court press to preserve history&hellip\;</div>\n</div>\n
LOCATION:
UID:e.451.7822
SEQUENCE:3
DTSTAMP:20260421T140726Z
URL:https://www.santafetxchamber.com/events/details/save-the-old-gym-blitz-day-7822
END:VEVENT

END:VCALENDAR
