BEGIN:VCALENDAR
VERSION:2.0
PRODID:-//ChamberMaster//Event Calendar 2.0//EN
METHOD:PUBLISH
X-PUBLISHED-TTL:P3D
REFRESH-INTERVAL:P3D
CALSCALE:GREGORIAN
BEGIN:VEVENT
DTSTART:20180919T230000Z
DTEND:20180920T010000Z
X-MICROSOFT-CDO-ALLDAYEVENT:FALSE
SUMMARY:Santa Fe Youth Basketball Tryouts - 2018
DESCRIPTION:FBI Gym\n\n  Wednesday\, September 12th - 6p to 8p\n\n  Saturday\, September 15th - 10a to 2p\n\n  Wednesday\, September 19th - 6p to 8p
X-ALT-DESC;FMTTYPE=text/html:FBI Gym<br />\n&nbsp\; Wednesday\, September 12th - 6p to 8p<br />\n&nbsp\; Saturday\, September 15th - 10a to 2p<br />\n&nbsp\; Wednesday\, September 19th - 6p to 8p
LOCATION:
UID:e.451.6653
SEQUENCE:3
DTSTAMP:20260423T163841Z
URL:https://www.santafetxchamber.com/events/details/santa-fe-youth-basketball-tryouts-2018-6653
END:VEVENT

END:VCALENDAR
