BEGIN:VCALENDAR
VERSION:2.0
PRODID:-//ChamberMaster//Event Calendar 2.0//EN
METHOD:PUBLISH
X-PUBLISHED-TTL:P3D
REFRESH-INTERVAL:P3D
CALSCALE:GREGORIAN
BEGIN:VEVENT
DTSTART:20160907T230000Z
DTEND:20160908T010000Z
X-MICROSOFT-CDO-ALLDAYEVENT:FALSE
SUMMARY:Santa Fe Youth Basketball Registration
DESCRIPTION:Now allowing online registration and payment at www.santafeyouthbasketball.activesports.com or on Facebook at https://www.facebook.com/sfybasketball/
X-ALT-DESC;FMTTYPE=text/html:Now allowing online registration and payment at <a href="http://www.santafeyouthbasketball.activesports.com">www.santafeyouthbasketball.activesports.com</a> or on Facebook at <a href="https://www.facebook.com/sfybasketball/">https://www.facebook.com/sfybasketball/</a>
LOCATION:Alamo Gym Santa Fe\, Texas
UID:e.451.5845
SEQUENCE:3
DTSTAMP:20260425T025529Z
URL:https://www.santafetxchamber.com/events/details/santa-fe-youth-basketball-registration-5845
END:VEVENT

END:VCALENDAR
