BEGIN:VCALENDAR
VERSION:2.0
PRODID:-//ChamberMaster//Event Calendar 2.0//EN
METHOD:PUBLISH
X-PUBLISHED-TTL:P3D
REFRESH-INTERVAL:P3D
CALSCALE:GREGORIAN
BEGIN:VEVENT
DTSTART:20180905T230000Z
DTEND:20180906T010000Z
X-MICROSOFT-CDO-ALLDAYEVENT:FALSE
SUMMARY:Santa Fe Youth Basketball Registration - 2018
DESCRIPTION:Alamo Gym\n\n  Saturday\, September 1st - 10a to 2p\n\n  Wednesday\, September 5th - 6p to 8p\n\n  Saturday\, September 8th - 10a to 2p\n\n\n\nTryouts at FBI Gym\n\n  Wednesday\, September 12th - 6p to 8p\n\n  Saturday\, September 15th - 10a to 2p
X-ALT-DESC;FMTTYPE=text/html:Alamo Gym<br />\n&nbsp\;&nbsp\;Saturday\, September 1st - 10a to 2p<br />\n&nbsp\; Wednesday\, September 5th - 6p to 8p<br />\n&nbsp\; Saturday\, September 8th - 10a to 2p<br />\n<br />\nTryouts at FBI Gym<br />\n&nbsp\; Wednesday\, September 12th - 6p to 8p<br />\n&nbsp\; Saturday\, September 15th - 10a to 2p<br />\n&nbsp\;
LOCATION:
UID:e.451.6649
SEQUENCE:3
DTSTAMP:20260423T150356Z
URL:https://www.santafetxchamber.com/events/details/santa-fe-youth-basketball-registration-2018-6649
END:VEVENT

END:VCALENDAR
