BEGIN:VCALENDAR
VERSION:2.0
PRODID:-//ChamberMaster//Event Calendar 2.0//EN
METHOD:PUBLISH
X-PUBLISHED-TTL:P3D
REFRESH-INTERVAL:P3D
CALSCALE:GREGORIAN
BEGIN:VEVENT
DTSTART;VALUE=DATE:20200518
DTEND;VALUE=DATE:20200519
TRANSP:TRANSPARENT
X-MICROSOFT-CDO-ALLDAYEVENT:TRUE
SUMMARY:Santa Fe Ten Memorial
DESCRIPTION:The website that will be used for donation to the fund will be up and available on Friday\, May 15th.
X-ALT-DESC;FMTTYPE=text/html:The website that will be used for donation to the fund will be up and available on Friday\, May 15th.
LOCATION:
UID:e.451.7810
SEQUENCE:3
DTSTAMP:20260422T102007Z
URL:https://www.santafetxchamber.com/events/details/santa-fe-ten-memorial-7810
END:VEVENT

END:VCALENDAR
