BEGIN:VCALENDAR
VERSION:2.0
PRODID:-//ChamberMaster//Event Calendar 2.0//EN
METHOD:PUBLISH
X-PUBLISHED-TTL:P3D
REFRESH-INTERVAL:P3D
CALSCALE:GREGORIAN
BEGIN:VEVENT
DTSTART:20180324T150000Z
DTEND:20180324T170000Z
X-MICROSOFT-CDO-ALLDAYEVENT:FALSE
SUMMARY:Santa Fe's Easter Egg Hunt
DESCRIPTION:Santa Fe's City Wide Easter Egg Hunt\n\nfor ages 1-10 years old\n\n\n\nThe Easter Bunny will be on-site for pictures before the hunt.
X-ALT-DESC;FMTTYPE=text/html:Santa Fe&#39\;s City Wide Easter Egg Hunt<br />\nfor ages 1-10 years old<br />\n<br />\nThe Easter Bunny will be on-site for pictures before the hunt.
LOCATION:Joe Tambrella Park ~ next to Mae S. Bruce Library
UID:e.451.6595
SEQUENCE:3
DTSTAMP:20260423T234851Z
URL:https://www.santafetxchamber.com/events/details/santa-fe-s-easter-egg-hunt-6595
END:VEVENT

END:VCALENDAR
