BEGIN:VCALENDAR
VERSION:2.0
PRODID:-//ChamberMaster//Event Calendar 2.0//EN
METHOD:PUBLISH
X-PUBLISHED-TTL:P3D
REFRESH-INTERVAL:P3D
CALSCALE:GREGORIAN
BEGIN:VEVENT
DTSTART:20190110T000000Z
DTEND:20190110T020000Z
X-MICROSOFT-CDO-ALLDAYEVENT:FALSE
SUMMARY:Santa Fe Little League Registration & Try-Outs
DESCRIPTION:2019 Spring Online Registration  \n\nSantafelittleleaguebaseball.com\n\n \n\nFor Registration you will need:\n\n3 Proof of residencies & child's Birth Certificate \n\nOR\n\n1 Verification of Enrollment (VOE)& child's Birth Certificate\n\n \n\nThese are all needed to be uploaded before completing the registration. \n\nThe registration needs to be completed by January 18th. \n\nPayments can be made Online or in person on days of Tryouts. \n\n \n\nAlso\, if you need help with registration we will have computers set up and\n\nwe can help on tryout days too.\n\n \n\n Payment must be made prior to draft to allow your child to be drafted. \n\n(Please see a board member if payment arrangements are needed\,\n\nall information is confidential) \n\n \n\nEmail santafellpresident@gmail.com for any questions or concerns.
X-ALT-DESC;FMTTYPE=text/html:<div align="center" style="color: rgb(54\, 73\, 95)\; font-family: Georgia\, &quot\;Times New Roman&quot\;\, Times\, serif\; font-size: 14px\; text-align: center\;"><span style="color: rgb(28\, 30\, 33)\;">&#128165\;&nbsp\;2019 Spring Online Registration&nbsp\;&#128165\;</span></div>\n\n<div align="center" style="color: rgb(54\, 73\, 95)\; font-family: Georgia\, &quot\;Times New Roman&quot\;\, Times\, serif\; font-size: 14px\; text-align: center\;"><a href="http://santafelittleleaguebaseball.com/?fbclid=IwAR29Ghx5U3Dyb33CtWeYOeV2we84gh6aTDwGyWHFfD-VPPbTOgUNTxmPCsY" style="text-decoration-line: none\; color: rgb(54\, 88\, 153)\;" target="_blank">Santafelittleleaguebasebal</a><a href="http://santafelittleleaguebaseball.com/?fbclid=IwAR29Ghx5U3Dyb33CtWeYOeV2we84gh6aTDwGyWHFfD-VPPbTOgUNTxmPCsY" style="text-decoration-line: none\; color: rgb(54\, 88\, 153)\;" target="_blank">l.com</a></div>\n\n<div align="center" style="color: rgb(54\, 73\, 95)\; font-family: Georgia\, &quot\;Times New Roman&quot\;\, Times\, serif\; font-size: 14px\; text-align: center\;">&nbsp\;</div>\n\n<div align="center" style="color: rgb(54\, 73\, 95)\; font-family: Georgia\, &quot\;Times New Roman&quot\;\, Times\, serif\; font-size: 14px\; text-align: center\;"><span style="color: rgb(28\, 30\, 33)\;">For Registration you will need:</span></div>\n\n<div align="center" style="color: rgb(54\, 73\, 95)\; font-family: Georgia\, &quot\;Times New Roman&quot\;\, Times\, serif\; font-size: 14px\; text-align: center\;"><span style="color: rgb(28\, 30\, 33)\;">3 Proof of residencies &amp\; child&rsquo\;s Birth Certificate&nbsp\;</span></div>\n\n<div align="center" style="color: rgb(54\, 73\, 95)\; font-family: Georgia\, &quot\;Times New Roman&quot\;\, Times\, serif\; font-size: 14px\; text-align: center\;">OR</div>\n\n<div align="center" style="color: rgb(54\, 73\, 95)\; font-family: Georgia\, &quot\;Times New Roman&quot\;\, Times\, serif\; font-size: 14px\; text-align: center\;"><span style="color: rgb(28\, 30\, 33)\;">1 Verification of Enrollment (VOE)&amp\; child&rsquo\;s Birth Certificate</span></div>\n\n<div align="center" style="color: rgb(54\, 73\, 95)\; font-family: Georgia\, &quot\;Times New Roman&quot\;\, Times\, serif\; font-size: 14px\; text-align: center\;">&nbsp\;</div>\n\n<div align="center" style="color: rgb(54\, 73\, 95)\; font-family: Georgia\, &quot\;Times New Roman&quot\;\, Times\, serif\; font-size: 14px\; text-align: center\;"><span style="color: rgb(28\, 30\, 33)\;">These are all needed to be uploaded before completing the registration.&nbsp\;</span></div>\n\n<div align="center" style="color: rgb(54\, 73\, 95)\; font-family: Georgia\, &quot\;Times New Roman&quot\;\, Times\, serif\; font-size: 14px\; text-align: center\;"><span style="color: rgb(28\, 30\, 33)\;">The registration needs to be completed by January 18th.&nbsp\;</span></div>\n\n<div align="center" style="color: rgb(54\, 73\, 95)\; font-family: Georgia\, &quot\;Times New Roman&quot\;\, Times\, serif\; font-size: 14px\; text-align: center\;"><span style="color: rgb(28\, 30\, 33)\;">Payments can be made Online or in person on days of Tryouts.&nbsp\;</span></div>\n\n<div align="center" style="color: rgb(54\, 73\, 95)\; font-family: Georgia\, &quot\;Times New Roman&quot\;\, Times\, serif\; font-size: 14px\; text-align: center\;">&nbsp\;</div>\n\n<div align="center" style="color: rgb(54\, 73\, 95)\; font-family: Georgia\, &quot\;Times New Roman&quot\;\, Times\, serif\; font-size: 14px\; text-align: center\;"><span style="color: rgb(28\, 30\, 33)\;">Also\, if you need help with registration we will have computers set up and</span></div>\n\n<div align="center" style="color: rgb(54\, 73\, 95)\; font-family: Georgia\, &quot\;Times New Roman&quot\;\, Times\, serif\; font-size: 14px\; text-align: center\;"><span style="color: rgb(28\, 30\, 33)\;">we can help on tryout days too.</span></div>\n\n<div align="center" style="color: rgb(54\, 73\, 95)\; font-family: Georgia\, &quot\;Times New Roman&quot\;\, Times\, serif\; font-size: 14px\; text-align: center\;">&nbsp\;</div>\n\n<div align="center" style="color: rgb(54\, 73\, 95)\; font-family: Georgia\, &quot\;Times New Roman&quot\;\, Times\, serif\; font-size: 14px\; text-align: center\;"><span style="color: rgb(28\, 30\, 33)\;">&nbsp\;Payment must be made prior to draft to allow your child to be drafted.&nbsp\;</span></div>\n\n<div align="center" style="color: rgb(54\, 73\, 95)\; font-family: Georgia\, &quot\;Times New Roman&quot\;\, Times\, serif\; font-size: 14px\; text-align: center\;"><span style="color: rgb(28\, 30\, 33)\;">(Please see a board member if payment arrangements are needed\,</span></div>\n\n<div align="center" style="color: rgb(54\, 73\, 95)\; font-family: Georgia\, &quot\;Times New Roman&quot\;\, Times\, serif\; font-size: 14px\; text-align: center\;"><span style="color: rgb(28\, 30\, 33)\;">all information is confidential)&nbsp\;</span></div>\n\n<div align="center" style="color: rgb(54\, 73\, 95)\; font-family: Georgia\, &quot\;Times New Roman&quot\;\, Times\, serif\; font-size: 14px\; text-align: center\;">&nbsp\;</div>\n\n<div align="center" style="color: rgb(54\, 73\, 95)\; font-family: Georgia\, &quot\;Times New Roman&quot\;\, Times\, serif\; font-size: 14px\; text-align: center\;"><span style="color: rgb(28\, 30\, 33)\;">Email santafellpresident@gmail.com for any questions or concerns.</span></div>\n
LOCATION:Runge Park
UID:e.451.6679
SEQUENCE:3
DTSTAMP:20260423T080537Z
URL:https://www.santafetxchamber.com/events/details/santa-fe-little-league-registration-try-outs-6679
END:VEVENT

END:VCALENDAR
