BEGIN:VCALENDAR
VERSION:2.0
PRODID:-//ChamberMaster//Event Calendar 2.0//EN
METHOD:PUBLISH
X-PUBLISHED-TTL:P3D
REFRESH-INTERVAL:P3D
CALSCALE:GREGORIAN
BEGIN:VEVENT
DTSTART:20161001T000000Z
DTEND:20161001T030000Z
X-MICROSOFT-CDO-ALLDAYEVENT:FALSE
SUMMARY:Santa Fe High School Varsity vs. Texas City High School
DESCRIPTION:@ Texas City
X-ALT-DESC;FMTTYPE=text/html:@ Texas City
LOCATION:Santa Fe High School
UID:e.451.5854
SEQUENCE:3
DTSTAMP:20260425T011239Z
URL:https://www.santafetxchamber.com/events/details/santa-fe-high-school-varsity-vs-texas-city-high-school-5854
END:VEVENT

END:VCALENDAR
