BEGIN:VCALENDAR
VERSION:2.0
PRODID:-//ChamberMaster//Event Calendar 2.0//EN
METHOD:PUBLISH
X-PUBLISHED-TTL:P3D
REFRESH-INTERVAL:P3D
CALSCALE:GREGORIAN
BEGIN:VEVENT
DTSTART:20160827T000000Z
DTEND:20160827T030000Z
X-MICROSOFT-CDO-ALLDAYEVENT:FALSE
SUMMARY:Santa Fe High School Varsity vs. Lamar Consolidated High School
DESCRIPTION:@ Santa Fe
X-ALT-DESC;FMTTYPE=text/html:@ Santa Fe
LOCATION:
UID:e.451.5849
SEQUENCE:3
DTSTAMP:20260425T011149Z
URL:https://www.santafetxchamber.com/events/details/santa-fe-high-school-varsity-vs-lamar-consolidated-high-school-5849
END:VEVENT

END:VCALENDAR
