BEGIN:VCALENDAR
VERSION:2.0
PRODID:-//ChamberMaster//Event Calendar 2.0//EN
METHOD:PUBLISH
X-PUBLISHED-TTL:P3D
REFRESH-INTERVAL:P3D
CALSCALE:GREGORIAN
BEGIN:VEVENT
DTSTART:20161029T000000Z
DTEND:20161029T030000Z
X-MICROSOFT-CDO-ALLDAYEVENT:FALSE
SUMMARY:Santa Fe High School Varsity vs. Manvel High School
DESCRIPTION:@ Santa Fe
X-ALT-DESC;FMTTYPE=text/html:@ Santa Fe
LOCATION:
UID:e.451.5858
SEQUENCE:3
DTSTAMP:20260424T220632Z
URL:https://www.santafetxchamber.com/events/details/santa-fe-high-school-varsity-vs-lamar-consolidated-high-school-10-28-2016-5858
END:VEVENT

END:VCALENDAR
