BEGIN:VCALENDAR
VERSION:2.0
PRODID:-//ChamberMaster//Event Calendar 2.0//EN
METHOD:PUBLISH
X-PUBLISHED-TTL:P3D
REFRESH-INTERVAL:P3D
CALSCALE:GREGORIAN
BEGIN:VEVENT
DTSTART:20160909T000000Z
DTEND:20160909T030000Z
X-MICROSOFT-CDO-ALLDAYEVENT:FALSE
SUMMARY:Santa Fe High School Varsity vs. Goose Creek Memorial High School
DESCRIPTION:@ Goose Creek Memorial High School
X-ALT-DESC;FMTTYPE=text/html:@ Goose Creek Memorial High School
LOCATION:
UID:e.451.5860
SEQUENCE:3
DTSTAMP:20260425T025826Z
URL:https://www.santafetxchamber.com/events/details/santa-fe-high-school-varsity-vs-goose-creek-memorial-high-school-5860
END:VEVENT

END:VCALENDAR
