BEGIN:VCALENDAR
VERSION:2.0
PRODID:-//ChamberMaster//Event Calendar 2.0//EN
METHOD:PUBLISH
X-PUBLISHED-TTL:P3D
REFRESH-INTERVAL:P3D
CALSCALE:GREGORIAN
BEGIN:VEVENT
DTSTART:20161015T000000Z
DTEND:20161015T030000Z
X-MICROSOFT-CDO-ALLDAYEVENT:FALSE
SUMMARY:Santa Fe High School Varsity vs. Galena Park High School
DESCRIPTION:@ Santa Fe
X-ALT-DESC;FMTTYPE=text/html:@ Santa Fe
LOCATION:
UID:e.451.5856
SEQUENCE:3
DTSTAMP:20260424T215650Z
URL:https://www.santafetxchamber.com/events/details/santa-fe-high-school-varsity-vs-galena-park-high-school-5856
END:VEVENT

END:VCALENDAR
