BEGIN:VCALENDAR
VERSION:2.0
PRODID:-//ChamberMaster//Event Calendar 2.0//EN
METHOD:PUBLISH
X-PUBLISHED-TTL:P3D
REFRESH-INTERVAL:P3D
CALSCALE:GREGORIAN
BEGIN:VEVENT
DTSTART:20161022T000000Z
DTEND:20161022T030000Z
X-MICROSOFT-CDO-ALLDAYEVENT:FALSE
SUMMARY:Santa Fe High School Varsity vs. Fort Bend Willowridge High School
DESCRIPTION:@ Fort Bend Willowridge
X-ALT-DESC;FMTTYPE=text/html:@&nbsp\;Fort Bend Willowridge
LOCATION:
UID:e.451.5857
SEQUENCE:3
DTSTAMP:20260424T220423Z
URL:https://www.santafetxchamber.com/events/details/santa-fe-high-school-varsity-vs-fort-bend-willowridge-high-school-5857
END:VEVENT

END:VCALENDAR
