BEGIN:VCALENDAR
VERSION:2.0
PRODID:-//ChamberMaster//Event Calendar 2.0//EN
METHOD:PUBLISH
X-PUBLISHED-TTL:P3D
REFRESH-INTERVAL:P3D
CALSCALE:GREGORIAN
BEGIN:VEVENT
DTSTART:20160117T193000Z
DTEND:20160117T213000Z
X-MICROSOFT-CDO-ALLDAYEVENT:FALSE
SUMMARY:Santa Fe Girls Softball TryOuts
DESCRIPTION:
X-ALT-DESC;FMTTYPE=text/html:
LOCATION:Santa Fe Girls Softball Fields 12330 6th St. Santa Fe\, Texas
UID:e.451.5159
SEQUENCE:3
DTSTAMP:20260425T153516Z
URL:https://www.santafetxchamber.com/events/details/santa-fe-girls-softball-tryouts-01-17-2016-5159
END:VEVENT

END:VCALENDAR
