BEGIN:VCALENDAR
VERSION:2.0
PRODID:-//ChamberMaster//Event Calendar 2.0//EN
METHOD:PUBLISH
X-PUBLISHED-TTL:P3D
REFRESH-INTERVAL:P3D
CALSCALE:GREGORIAN
BEGIN:VEVENT
DTSTART:20171102T230000Z
DTEND:20171103T030000Z
X-MICROSOFT-CDO-ALLDAYEVENT:FALSE
SUMMARY:Santa Fe Education Foundation Gala
DESCRIPTION:
X-ALT-DESC;FMTTYPE=text/html:
LOCATION:
UID:e.451.6420
SEQUENCE:3
DTSTAMP:20260424T065753Z
URL:https://www.santafetxchamber.com/events/details/santa-fe-education-foundation-gala-6420
END:VEVENT

END:VCALENDAR
