BEGIN:VCALENDAR
VERSION:2.0
PRODID:-//ChamberMaster//Event Calendar 2.0//EN
METHOD:PUBLISH
X-PUBLISHED-TTL:P3D
REFRESH-INTERVAL:P3D
CALSCALE:GREGORIAN
BEGIN:VEVENT
DTSTART:20181208T180000Z
DTEND:20181208T220000Z
X-MICROSOFT-CDO-ALLDAYEVENT:FALSE
SUMMARY:Santa Fe Christmas Market
DESCRIPTION:Join us for our last market of the year! Awesome holiday shopping is to be had by all! We'll have handmade artisans\, local crafters\, boutiques\, gifts and more! You don't want to miss this market! Free Admission and Parking with Handicap Access. Service animals only.
X-ALT-DESC;FMTTYPE=text/html:Join us for our last market of the year! Awesome holiday shopping is to be had by all! We&#39\;ll have handmade artisans\, local crafters\, boutiques\, gifts and more! You don&#39\;t want to miss this market! Free Admission and Parking with Handicap Access. Service animals only.
LOCATION:Thelma Webber Community Center 14304 Beriton St.\, Santa Fe\, TX 77517 (Hwy 6 at Jackson)
UID:e.451.6663
SEQUENCE:3
DTSTAMP:20260423T102756Z
URL:https://www.santafetxchamber.com/events/details/santa-fe-christmas-market-6663
END:VEVENT

END:VCALENDAR
