BEGIN:VCALENDAR
VERSION:2.0
PRODID:-//ChamberMaster//Event Calendar 2.0//EN
METHOD:PUBLISH
X-PUBLISHED-TTL:P3D
REFRESH-INTERVAL:P3D
CALSCALE:GREGORIAN
BEGIN:VEVENT
DTSTART:20170526T160000Z
DTEND:20170526T180000Z
X-MICROSOFT-CDO-ALLDAYEVENT:FALSE
SUMMARY:Safety in the Workplace Workshop
DESCRIPTION:
X-ALT-DESC;FMTTYPE=text/html:
LOCATION:
UID:e.451.6343
SEQUENCE:3
DTSTAMP:20260424T112639Z
URL:https://www.santafetxchamber.com/events/details/safety-in-the-workplace-workshop-6343
END:VEVENT

END:VCALENDAR
