BEGIN:VCALENDAR
VERSION:2.0
PRODID:-//ChamberMaster//Event Calendar 2.0//EN
METHOD:PUBLISH
X-PUBLISHED-TTL:P3D
REFRESH-INTERVAL:P3D
CALSCALE:GREGORIAN
BEGIN:VEVENT
DTSTART:20190324T154500Z
DTEND:20190324T180000Z
X-MICROSOFT-CDO-ALLDAYEVENT:FALSE
SUMMARY:Rodeo Roundup - Chili Cook-Off & Kids' Bake-Off
DESCRIPTION:Dayspring Church\n\n6th Annual Rodeo Round-Up\n\nChili Cook-Off & Kids' Bake-Off
X-ALT-DESC;FMTTYPE=text/html:Dayspring Church<br />\n6th Annual Rodeo Round-Up<br />\nChili Cook-Off &amp\; Kids&#39\; Bake-Off
LOCATION:
UID:e.451.7009
SEQUENCE:3
DTSTAMP:20260423T033621Z
URL:https://www.santafetxchamber.com/events/details/rodeo-roundup-chili-cook-off-kids-bake-off-7009
END:VEVENT

END:VCALENDAR
