BEGIN:VCALENDAR
VERSION:2.0
PRODID:-//ChamberMaster//Event Calendar 2.0//EN
METHOD:PUBLISH
X-PUBLISHED-TTL:P3D
REFRESH-INTERVAL:P3D
CALSCALE:GREGORIAN
BEGIN:VEVENT
DTSTART:20210916T140000Z
DTEND:20210916T150000Z
X-MICROSOFT-CDO-ALLDAYEVENT:FALSE
SUMMARY:RIBBON CUTTING - On the Way AC Plumbing & Electrical
DESCRIPTION:Family owned and operated for over 50 years... On the Way AC Plumbing & Electrical's history began in 1971 with Ronald C. Bedard Sr.\, when he began working with his father-in-law's company Sanford & Son's Refrigeration after serving two tours in the Vietnam War. By 1976\, Ron had opened up Bedard's Refrigeration out of La Marque. There he continued to serve the community for over 44 years.\n\n\n\nUpon his decision to retire in 2019\, Ron proudly handed down the long-standing company to his eldest son Ronald C. Bedard Jr.\, who owned and operated Master Electrical Services and partnered with his brother-in-law James Mitchell. Ronald Jr. proudly took over his father's business. He continues his father's tradition of supporting customers and adapting with an ever-expanding growth mindset.\n\n\n\nJoin us on Thursday\, September 16th at 9:00a for their Ribbon Cutting...
X-ALT-DESC;FMTTYPE=text/html:<div class="o9v6fnle cxmmr5t8 oygrvhab hcukyx3x c1et5uql ii04i59q" style="overflow-wrap: break-word\; margin: 0.5em 0px 0px\; white-space: pre-wrap\; font-family: &quot\;Segoe UI Historic&quot\;\, &quot\;Segoe UI&quot\;\, Helvetica\, Arial\, sans-serif\; color: rgb(5\, 5\, 5)\; font-size: 15px\;">\n<div dir="auto" style="font-family: inherit\;">Family owned and operated for over 50 years... On the Way AC Plumbing &amp\; Electrical&#39\;s history began in 1971 with Ronald C. Bedard Sr.\, when he began working with his father-in-law&rsquo\;s company Sanford &amp\; Son&rsquo\;s Refrigeration after serving two tours in the Vietnam War. By 1976\, Ron had opened up Bedard&rsquo\;s Refrigeration out of La Marque. There he continued to serve the community for over 44 years.</div>\n</div>\n\n<div class="o9v6fnle cxmmr5t8 oygrvhab hcukyx3x c1et5uql ii04i59q" style="overflow-wrap: break-word\; margin: 0.5em 0px 0px\; white-space: pre-wrap\; font-family: &quot\;Segoe UI Historic&quot\;\, &quot\;Segoe UI&quot\;\, Helvetica\, Arial\, sans-serif\; color: rgb(5\, 5\, 5)\; font-size: 15px\;">\n<div dir="auto" style="font-family: inherit\;">Upon his decision to retire in 2019\, Ron proudly handed down the long-standing company to his eldest son Ronald C. Bedard Jr.\, who owned and operated Master Electrical Services and partnered with his brother-in-law James Mitchell. Ronald Jr. proudly took over his father&rsquo\;s business. He continues his father&#39\;s tradition of supporting customers and adapting with an ever-expanding growth mindset.</div>\n</div>\n\n<div class="o9v6fnle cxmmr5t8 oygrvhab hcukyx3x c1et5uql ii04i59q" style="overflow-wrap: break-word\; margin: 0.5em 0px 0px\; white-space: pre-wrap\; font-family: &quot\;Segoe UI Historic&quot\;\, &quot\;Segoe UI&quot\;\, Helvetica\, Arial\, sans-serif\; color: rgb(5\, 5\, 5)\; font-size: 15px\;">\n<div dir="auto" style="font-family: inherit\;">Join us on Thursday\, September 16th at 9:00a for their Ribbon Cutting...</div>\n</div>\n
LOCATION:On the Way 2513 FM 646
UID:e.451.7868
SEQUENCE:3
DTSTAMP:20260421T065638Z
URL:https://www.santafetxchamber.com/events/details/ribbon-cutting-on-the-way-ac-plumbing-electrical-7868
END:VEVENT

END:VCALENDAR
