BEGIN:VCALENDAR
VERSION:2.0
PRODID:-//ChamberMaster//Event Calendar 2.0//EN
METHOD:PUBLISH
X-PUBLISHED-TTL:P3D
REFRESH-INTERVAL:P3D
CALSCALE:GREGORIAN
BEGIN:VEVENT
DTSTART:20200812T220000Z
DTEND:20200813T000000Z
X-MICROSOFT-CDO-ALLDAYEVENT:FALSE
SUMMARY:RIBBON CUTTING - Honey Bee Boutique & Resale
DESCRIPTION:Honey Bee Boutique & Resale is celebrating 1-YEAR in business with an Open House and Ribbon Cutting.
X-ALT-DESC;FMTTYPE=text/html:Honey Bee Boutique &amp\; Resale is celebrating 1-YEAR in business with an Open House and Ribbon Cutting.
LOCATION:Honey Bee Boutique & Resale 13001 FM 1764
UID:e.451.7811
SEQUENCE:3
DTSTAMP:20260422T042656Z
URL:https://www.santafetxchamber.com/events/details/ribbon-cutting-honey-bee-boutique-resale-7811
END:VEVENT

END:VCALENDAR
