BEGIN:VCALENDAR
VERSION:2.0
PRODID:-//ChamberMaster//Event Calendar 2.0//EN
METHOD:PUBLISH
X-PUBLISHED-TTL:P3D
REFRESH-INTERVAL:P3D
CALSCALE:GREGORIAN
BEGIN:VEVENT
DTSTART:20160913T220000Z
DTEND:20160914T000000Z
X-MICROSOFT-CDO-ALLDAYEVENT:FALSE
SUMMARY:RIBBON CUTTING - Elite Care 24 Hour Emergency
DESCRIPTION:Open House from 5:00p to 7:00p\n\nRibbon Cutting at 5:30p
X-ALT-DESC;FMTTYPE=text/html:Open House from 5:00p to 7:00p<br />\nRibbon Cutting at 5:30p
LOCATION:
UID:e.451.6116
SEQUENCE:3
DTSTAMP:20260425T011111Z
URL:https://www.santafetxchamber.com/events/details/ribbon-cutting-elite-care-24-hour-emergency-6116
END:VEVENT

END:VCALENDAR
