BEGIN:VCALENDAR
VERSION:2.0
PRODID:-//ChamberMaster//Event Calendar 2.0//EN
METHOD:PUBLISH
X-PUBLISHED-TTL:P3D
REFRESH-INTERVAL:P3D
CALSCALE:GREGORIAN
BEGIN:VEVENT
DTSTART:20150623T183000Z
DTEND:20150623T200000Z
X-MICROSOFT-CDO-ALLDAYEVENT:FALSE
SUMMARY:Ribbon Cutting Action Personnel
DESCRIPTION:Please join us for a Ribbon Cutting at Action Personnel located at\n\n1718 N. Amburn Rd. in Texas City.\n\nPunch and Dessert will be served\n\n1:30 p.m.
X-ALT-DESC;FMTTYPE=text/html:Please join us for a Ribbon Cutting at Action Personnel located at<br />\n1718 N. Amburn Rd. in Texas City.<br />\nPunch and Dessert will be served<br />\n1:30 p.m.
LOCATION:
UID:e.451.4102
SEQUENCE:3
DTSTAMP:20260426T034657Z
URL:https://www.santafetxchamber.com/events/details/ribbon-cutting-action-personnel-06-23-2015-4102
END:VEVENT

END:VCALENDAR
