BEGIN:VCALENDAR
VERSION:2.0
PRODID:-//ChamberMaster//Event Calendar 2.0//EN
METHOD:PUBLISH
X-PUBLISHED-TTL:P3D
REFRESH-INTERVAL:P3D
CALSCALE:GREGORIAN
BEGIN:VEVENT
DTSTART:20180227T190000Z
DTEND:20180227T220000Z
X-MICROSOFT-CDO-ALLDAYEVENT:FALSE
SUMMARY:Retirement Celebration for Benny Davis
DESCRIPTION:Retirement Celebration for City of Santa Fe Building Official\, Mr. Benny Davis\n\nCelebrating 32 years of service to the City of Santa Fe
X-ALT-DESC;FMTTYPE=text/html:Retirement Celebration for City of Santa Fe Building Official\, Mr. Benny Davis<br />\nCelebrating 32 years of service to the City of Santa Fe
LOCATION:City Hall 12002 Highway 6 Santa Fe\, TX 77510
UID:e.451.6589
SEQUENCE:3
DTSTAMP:20260424T012348Z
URL:https://www.santafetxchamber.com/events/details/retirement-celebration-for-benny-davis-6589
END:VEVENT

END:VCALENDAR
