BEGIN:VCALENDAR
VERSION:2.0
PRODID:-//ChamberMaster//Event Calendar 2.0//EN
METHOD:PUBLISH
X-PUBLISHED-TTL:P3D
REFRESH-INTERVAL:P3D
CALSCALE:GREGORIAN
BEGIN:VEVENT
DTSTART:20190812T223000Z
DTEND:20190812T233000Z
X-MICROSOFT-CDO-ALLDAYEVENT:FALSE
SUMMARY:Resilient Parent Support Group
DESCRIPTION:City of Santa Fe Resiliency Center\n\nlocated at Aldersgate United Methodist Church\n\n13217 FM 1764 in Santa Fe
X-ALT-DESC;FMTTYPE=text/html:City of Santa Fe Resiliency Center<br />\nlocated at Aldersgate United Methodist Church<br />\n13217 FM 1764 in Santa Fe
LOCATION:
UID:e.451.7637
SEQUENCE:3
DTSTAMP:20260422T222902Z
URL:https://www.santafetxchamber.com/events/details/resilient-parent-support-group-08-12-2019-7637
END:VEVENT

END:VCALENDAR
