BEGIN:VCALENDAR
VERSION:2.0
PRODID:-//ChamberMaster//Event Calendar 2.0//EN
METHOD:PUBLISH
X-PUBLISHED-TTL:P3D
REFRESH-INTERVAL:P3D
CALSCALE:GREGORIAN
BEGIN:VEVENT
DTSTART:20181207T000000Z
DTEND:20181207T010000Z
X-MICROSOFT-CDO-ALLDAYEVENT:FALSE
SUMMARY:Read to Rover at Mae S. Bruce Library
DESCRIPTION:The goal of Read to Rover is to inspire students to discover the joy of reading. Boys and girls will practice reading to their dog of the day in 15-minute time blocks.  All reading levels are welcome.\n\n\n\nFind the printable flyer at https://chambermaster.blob.core.windows.net/userfiles/UserFiles/chambers/451/File/ReadtoRoverflyer002.png
X-ALT-DESC;FMTTYPE=text/html:The goal of Read to Rover is to inspire students to discover the joy of reading. Boys and girls will practice reading to their dog of the day in 15-minute time blocks.&nbsp\; All reading levels are welcome.<br />\n<br />\nFind the printable flyer at&nbsp\;<a href="https://chambermaster.blob.core.windows.net/userfiles/UserFiles/chambers/451/File/ReadtoRoverflyer002.png"><span style="color:#0000CD\;">https://chambermaster.blob.core.windows.net/userfiles/UserFiles/chambers/451/File/ReadtoRoverflyer002.png</span></a>
LOCATION:
UID:e.451.6646
SEQUENCE:3
DTSTAMP:20260423T102336Z
URL:https://www.santafetxchamber.com/events/details/read-to-rover-at-mae-s-bruce-library-12-06-2018-6646
END:VEVENT

END:VCALENDAR
