BEGIN:VCALENDAR
VERSION:2.0
PRODID:-//ChamberMaster//Event Calendar 2.0//EN
METHOD:PUBLISH
X-PUBLISHED-TTL:P3D
REFRESH-INTERVAL:P3D
CALSCALE:GREGORIAN
BEGIN:VEVENT
DTSTART:20161102T200000Z
DTEND:20161102T230000Z
X-MICROSOFT-CDO-ALLDAYEVENT:FALSE
SUMMARY:Re/Max 1st Choice Open House & Ribbon Cutting
DESCRIPTION:Open House from 3:00p to 6:00p\n\nRibbon Cutting at 3:30p
X-ALT-DESC;FMTTYPE=text/html:Open House from 3:00p to 6:00p<br />\nRibbon Cutting at 3:30p
LOCATION:Re/Max 1st Choice 13109 Highway 6 Santa Fe\, Texas
UID:e.451.6139
SEQUENCE:3
DTSTAMP:20260424T202553Z
URL:https://www.santafetxchamber.com/events/details/re-max-1st-choice-open-house-ribbon-cutting-6139
END:VEVENT

END:VCALENDAR
