BEGIN:VCALENDAR
VERSION:2.0
PRODID:-//ChamberMaster//Event Calendar 2.0//EN
METHOD:PUBLISH
X-PUBLISHED-TTL:P3D
REFRESH-INTERVAL:P3D
CALSCALE:GREGORIAN
BEGIN:VEVENT
DTSTART:20171011T163000Z
DTEND:20171011T180000Z
X-MICROSOFT-CDO-ALLDAYEVENT:FALSE
SUMMARY:Public Servant Appreciation Luncheon
DESCRIPTION:Speaker: \n\n\n\nLunch Provided by: Southern Elegance Catering
X-ALT-DESC;FMTTYPE=text/html:Speaker:&nbsp\;<br />\n<br />\nLunch Provided by: Southern Elegance Catering
LOCATION:Pentecostals of Santa Fe Church 12811 FM 1764 Santa Fe\, Texas
UID:e.451.6170
SEQUENCE:3
DTSTAMP:20260424T041857Z
URL:https://www.santafetxchamber.com/events/details/public-servant-appreciation-luncheon-6170
END:VEVENT

END:VCALENDAR
