BEGIN:VCALENDAR
VERSION:2.0
PRODID:-//ChamberMaster//Event Calendar 2.0//EN
METHOD:PUBLISH
X-PUBLISHED-TTL:P3D
REFRESH-INTERVAL:P3D
CALSCALE:GREGORIAN
BEGIN:VEVENT
DTSTART:20160914T163000Z
DTEND:20160914T180000Z
X-MICROSOFT-CDO-ALLDAYEVENT:FALSE
SUMMARY:Public Servant Appreciation Lunch ~ 2016
DESCRIPTION:Public servants deserve our respect and appreciation throughout the year. We hope you will join us in honoring our local Public Servants for their service and for the many great challenges they tackle on our behalf every day in our hometown and throughout the county.\n\n\n\nAt this event\, we will recognize one officer from each of the departments listed above as "Public Servant of the Year" for their respective department.\n\n\n\nPlease mark your calendar to join us and/or sponsor lunch for a Public Servant at this years' event.
X-ALT-DESC;FMTTYPE=text/html:<p><span style="font-family:times new roman\;">Public servants deserve our respect and appreciation throughout the year. We hope you will join us in honoring our local Public Servants for their service and for the many great challenges they tackle on our behalf every day in our hometown and throughout the county.<br />\n<br />\nAt this event\, we will recognize one officer from each of the departments listed above as &quot\;Public Servant of the Year&quot\; for their respective department.<br />\n<br />\nPlease mark your calendar to join us and/or sponsor lunch for a Public Servant at this years&#39\; event.</span></p>\n
LOCATION:Pentecostals of Santa Fe 12811 FM 1764 Santa Fe\, TX 77510
UID:e.451.5184
SEQUENCE:3
DTSTAMP:20260425T025044Z
URL:https://www.santafetxchamber.com/events/details/public-servant-appreciation-lunch-2016-5184
END:VEVENT

END:VCALENDAR
