BEGIN:VCALENDAR
VERSION:2.0
PRODID:-//ChamberMaster//Event Calendar 2.0//EN
METHOD:PUBLISH
X-PUBLISHED-TTL:P3D
REFRESH-INTERVAL:P3D
CALSCALE:GREGORIAN
BEGIN:VEVENT
DTSTART:20170404T220000Z
DTEND:20170405T030000Z
X-MICROSOFT-CDO-ALLDAYEVENT:FALSE
SUMMARY:Project Grad Pook's Crawfish Hole
DESCRIPTION:JOIN US Tuesday~April 4th from 5:00 p.m. to Close\n\nat POOK's CRAWFISH HOLE for\n\nSanta Fe High School Project Graduation Night!!!\n\n\n\nPook's is not only generously providing their restaurant for this fundraiser\,\n\nthey are also donating 10% of all sales right back to Project Graduation.\n\n\n\nBe sure to bring cash for our raffles:\n\n50/50\, Yeti Roadie w/Pook's swag inside and a BBQ Pit
X-ALT-DESC;FMTTYPE=text/html:<span style="font-size:14px\;"><span style="color:#343D3A\;"><span style="font-family:comic sans ms\;">JOIN US Tuesday~April 4th from 5:00 p.m. to Close<br />\nat POOK&#39\;s CRAWFISH HOLE for<br />\nSanta Fe High School Project Graduation Night!!!</span></span></span><br />\n<br />\n<span style="font-size:12px\;"><span style="color:#343D3A\;"><span style="font-family:comic sans ms\;">Pook&#39\;s is not only generously providing their restaurant for this fundraiser\,<br />\nthey are also donating 10% of all sales right back to Project Graduation.</span><br />\n<br />\nBe sure to bring cash for our raffles:</span><br />\n50/50\, Yeti Roadie w/Pook&#39\;s swag inside and a BBQ Pit&nbsp\;</span>
LOCATION:
UID:e.451.6180
SEQUENCE:3
DTSTAMP:20260424T123239Z
URL:https://www.santafetxchamber.com/events/details/project-grad-pook-s-crawfish-hole-6180
END:VEVENT

END:VCALENDAR
