BEGIN:VCALENDAR
VERSION:2.0
PRODID:-//ChamberMaster//Event Calendar 2.0//EN
METHOD:PUBLISH
X-PUBLISHED-TTL:P3D
REFRESH-INTERVAL:P3D
CALSCALE:GREGORIAN
BEGIN:VEVENT
DTSTART:20160911T130000Z
DTEND:20160911T190000Z
X-MICROSOFT-CDO-ALLDAYEVENT:FALSE
SUMMARY:Project Grad Car Wash & Bake Sale
DESCRIPTION:Project Grad 2017 Fundraiser\n\n  Car Wash at Texas First Bank in Santa Fe\n\n  Bake Sale is inside Arlan's Market
X-ALT-DESC;FMTTYPE=text/html:Project Grad 2017 Fundraiser<br />\n&nbsp\;&nbsp\;Car Wash at Texas First Bank in Santa Fe<br />\n&nbsp\; Bake Sale is inside Arlan&#39\;s Market
LOCATION:
UID:e.451.5842
SEQUENCE:3
DTSTAMP:20260425T025244Z
URL:https://www.santafetxchamber.com/events/details/project-grad-car-wash-bake-sale-5842
END:VEVENT

END:VCALENDAR
