BEGIN:VCALENDAR
VERSION:2.0
PRODID:-//ChamberMaster//Event Calendar 2.0//EN
METHOD:PUBLISH
X-PUBLISHED-TTL:P3D
REFRESH-INTERVAL:P3D
CALSCALE:GREGORIAN
BEGIN:VEVENT
DTSTART:20180826T154500Z
DTEND:20180826T170000Z
X-MICROSOFT-CDO-ALLDAYEVENT:FALSE
SUMMARY:Pray First - One Year Anniversary of Harvey
DESCRIPTION:Join Dayspring Church for a special service commemorating the One Year Anniversary of Hurricane Harvey\; honoring First Responders as well as Local\, State and National leaders that serve our community.\n\n\n\nGuest Speaker: US Representative Randy Weber
X-ALT-DESC;FMTTYPE=text/html:Join Dayspring Church for a special service commemorating the One Year Anniversary of Hurricane Harvey\; honoring First Responders as well as Local\, State and National leaders that serve our community.<br />\n<br />\nGuest Speaker: US Representative Randy Weber
LOCATION:Dayspring Church 2215 FM 646 Rd. N Santa Fe\, Texas
UID:e.451.6640
SEQUENCE:3
DTSTAMP:20260423T163550Z
URL:https://www.santafetxchamber.com/events/details/pray-first-one-year-anniversary-of-harvey-6640
END:VEVENT

END:VCALENDAR
