BEGIN:VCALENDAR
VERSION:2.0
PRODID:-//ChamberMaster//Event Calendar 2.0//EN
METHOD:PUBLISH
X-PUBLISHED-TTL:P3D
REFRESH-INTERVAL:P3D
CALSCALE:GREGORIAN
BEGIN:VEVENT
DTSTART:20190511T153000Z
DTEND:20190511T163000Z
X-MICROSOFT-CDO-ALLDAYEVENT:FALSE
SUMMARY:Pokemon Saturdays at Mae S. Bruce Library
DESCRIPTION:Bring Your Own Pokemon Cards and Battle other Pokemon Trainers!!\n\nGotta Catch Them All!!!
X-ALT-DESC;FMTTYPE=text/html:Bring Your Own Pokemon Cards and Battle other Pokemon Trainers!!<br />\nGotta Catch Them All!!!
LOCATION:
UID:e.451.7013
SEQUENCE:3
DTSTAMP:20260423T020849Z
URL:https://www.santafetxchamber.com/events/details/pokemon-saturdays-at-mae-s-bruce-library-7013
END:VEVENT

END:VCALENDAR
