BEGIN:VCALENDAR
VERSION:2.0
PRODID:-//ChamberMaster//Event Calendar 2.0//EN
METHOD:PUBLISH
X-PUBLISHED-TTL:P3D
REFRESH-INTERVAL:P3D
CALSCALE:GREGORIAN
BEGIN:VEVENT
DTSTART:20190511T150000Z
DTEND:20190511T160000Z
X-MICROSOFT-CDO-ALLDAYEVENT:FALSE
SUMMARY:Plumeria Talk with Mike Kennedy
DESCRIPTION:Saturday\, May 11th\n\nPlumeria Talk with Mike Kennedy\n\n\n\nJoin us for this free informative talk with Mike Kennedy\, a well known Plumeria grower in the Galveston County area. Bring your questions and a notebook because you won't want to miss this wonderful opportunity to learn about Plumeria's.\n\n\n\n10 a.m. - 11 a.m
X-ALT-DESC;FMTTYPE=text/html:<span style="background-image:initial\;background-position:initial\;background-size:initial\;background-repeat:initial\;background-attachment:initial\;background-origin:initial\;background-clip:initial\;"><span style="color:#ffaa00\;"><span style="font-family:helvetica\,sans-serif\;"><span style="font-size:10.5pt\;">Saturday\, May 11th<br />\nPlumeria Talk with Mike Kennedy</span></span></span></span><br />\n<br />\n<span style="background-image:initial\;background-position:initial\;background-size:initial\;background-repeat:initial\;background-attachment:initial\;background-origin:initial\;background-clip:initial\;"><span style="color:#ffaa00\;"><span style="font-family:helvetica\,sans-serif\;"><span style="font-size:10.5pt\;"><span style="white-space:pre-wrap\;">Join us for this free informative talk with Mike Kennedy\, a well known Plumeria grower in the Galveston County area. Bring your questions and a notebook because you won&#39\;t want to miss this wonderful opportunity to learn about Plumeria&rsquo\;s.<br />\n<br />\n10 a.m. - 11 a.m</span></span></span></span></span>
LOCATION:
UID:e.451.6698
SEQUENCE:3
DTSTAMP:20260423T004457Z
URL:https://www.santafetxchamber.com/events/details/plumeria-talk-with-mike-kennedy-6698
END:VEVENT

END:VCALENDAR
