BEGIN:VCALENDAR
VERSION:2.0
PRODID:-//ChamberMaster//Event Calendar 2.0//EN
METHOD:PUBLISH
X-PUBLISHED-TTL:P3D
REFRESH-INTERVAL:P3D
CALSCALE:GREGORIAN
BEGIN:VEVENT
DTSTART:20170525T230000Z
DTEND:20170526T003000Z
X-MICROSOFT-CDO-ALLDAYEVENT:FALSE
SUMMARY:Personal Writing Club for Adults
DESCRIPTION:
X-ALT-DESC;FMTTYPE=text/html:
LOCATION:
UID:e.451.6342
SEQUENCE:3
DTSTAMP:20260424T112833Z
URL:https://www.santafetxchamber.com/events/details/personal-writing-club-for-adults-6342
END:VEVENT

END:VCALENDAR
