BEGIN:VCALENDAR
VERSION:2.0
PRODID:-//ChamberMaster//Event Calendar 2.0//EN
METHOD:PUBLISH
X-PUBLISHED-TTL:P3D
REFRESH-INTERVAL:P3D
CALSCALE:GREGORIAN
BEGIN:VEVENT
DTSTART:20180126T003000Z
DTEND:20180126T020000Z
X-MICROSOFT-CDO-ALLDAYEVENT:FALSE
SUMMARY:Pct 4 Galveston County Commissioner Candidate Forum
DESCRIPTION:Pct 4 Galveston County Commissioner Candidate Forum\n\nCandidates:\n\n\n  Commissioner Ken Clark (incumbent)\n\n  Billy Enochs\n\n  Michelle Hatmaker\n\n  Jim Bulgier\n\n\n\nBrought to you by: \n\nLeague City Regional Chamber of Commerce\n\nTexas City-La Marque Chamber of Commerce\n\nSanta Fe Chamber of Commerce\, Inc.\n\ni45NOW\n\nCollege of the Mainland\n\n \n\n\n\n\nThe Candidate Forums will be moderated by TJ Aulds of i45NOW and are all open to the public.\n\nThe League City Regional Chamber of Commerce\, the Texas City-La Marque Chamber of Commerce\, the Santa Fe Chamber of Commerce\, Inc.\, i45NOW and the College of the Mainland are all nonpartisan organizations that encourage the informed and active participation of citizens in government\, works to increase understanding of major public policy issues\, and influences public policy through education and advocacy.
X-ALT-DESC;FMTTYPE=text/html:<div class="cms-content cms-widget published " id="content-20663">\n<div class="mn-content" id="mn-content">\n<div class="mn-module-content" id="mn-events">\n<div id="mn-events-details" itemscope="itemscope" itemtype="http://schema.org/Event">\n<div class="mn-section mn-event-detail-listing">\n<div class="mn-event-info mn-listing-infobasic">\n<div class="mn-event-section mn-event-desc">\n<div class="mn-event-head">Pct 4 Galveston County Commissioner Candidate Forum<br />\nCandidates:</div>\n\n<div class="mn-event-content">\n<div class="mn-raw mn-print-url" itemprop="description">&nbsp\; Commissioner Ken Clark (incumbent)<br />\n&nbsp\; Billy Enochs<br />\n&nbsp\; Michelle Hatmaker<br />\n&nbsp\; Jim Bulgier<br />\n<br />\nBrought to you by:&nbsp\;<br />\nLeague City Regional Chamber of Commerce<br />\nTexas City-La Marque Chamber of Commerce<br />\nSanta Fe Chamber of Commerce\, Inc.<br />\ni45NOW<br />\nCollege of the Mainland<br />\n&nbsp\;\n<div class="page" title="Page 1">\n<div class="section">\n<div class="layoutArea">\n<div class="column">\n<p><span style="font-size: 12px\;"><span style="font-family: tahoma\;"><span style="color: rgb(33\, 33\, 33)\;">The Candidate Forums will be moderated by TJ&nbsp\;Aulds&nbsp\;of&nbsp\;i45NOW&nbsp\;and are all open to the public.</span></span></span></p>\n\n<p><span style="font-size: 12px\;"><span style="font-family: tahoma\;"><span style="color: rgb(33\, 33\, 33)\; font-style: italic\;">The League City Regional Chamber of Commerce\, the Texas City-La Marque Chamber of Commerce\, the Santa Fe Chamber of Commerce\, Inc.\,&nbsp\;i45NOW&nbsp\;and the College of the Mainland are all nonpartisan organizations that encourage the informed and active participation of citizens in government\, works to increase understanding of major public policy issues\, and influences public policy through education and advocacy.&nbsp\;</span></span></span></p>\n</div>\n</div>\n</div>\n</div>\n</div>\n</div>\n</div>\n</div>\n</div>\n</div>\n</div>\n</div>\n</div>\n
LOCATION:
UID:e.451.6579
SEQUENCE:3
DTSTAMP:20260424T054819Z
URL:https://www.santafetxchamber.com/events/details/pct-4-galveston-county-commissioner-candidate-forum-6579
END:VEVENT

END:VCALENDAR
