BEGIN:VCALENDAR
VERSION:2.0
PRODID:-//ChamberMaster//Event Calendar 2.0//EN
METHOD:PUBLISH
X-PUBLISHED-TTL:P3D
REFRESH-INTERVAL:P3D
CALSCALE:GREGORIAN
BEGIN:VEVENT
DTSTART;VALUE=DATE:20160609
DTEND;VALUE=DATE:20160610
TRANSP:TRANSPARENT
X-MICROSOFT-CDO-ALLDAYEVENT:TRUE
SUMMARY:Patches & Pearls Grand Re-Opening and Ribbon Cutting
DESCRIPTION:Open House from Noon to 6:00p with Chamber Ribbon Cutting at 5:30p
X-ALT-DESC;FMTTYPE=text/html:Open House from Noon to 6:00p with Chamber Ribbon Cutting at 5:30p
LOCATION:
UID:e.451.5204
SEQUENCE:3
DTSTAMP:20260425T042435Z
URL:https://www.santafetxchamber.com/events/details/patches-pearls-grand-re-opening-and-ribbon-cutting-06-09-2016-5204
END:VEVENT

END:VCALENDAR
