BEGIN:VCALENDAR
VERSION:2.0
PRODID:-//ChamberMaster//Event Calendar 2.0//EN
METHOD:PUBLISH
X-PUBLISHED-TTL:P3D
REFRESH-INTERVAL:P3D
CALSCALE:GREGORIAN
BEGIN:VEVENT
DTSTART:20160210T003000Z
DTEND:20160210T023000Z
X-MICROSOFT-CDO-ALLDAYEVENT:FALSE
SUMMARY:Painting with a Twist to Benefit Santa Fe Education Foundation
DESCRIPTION:Have Fun Painting\, for a Purpose! Paint a Valentine-themed painting\, and part of your registration fee will be donated to Santa Fe Texas Education Foundation's classroom grant fund. (BYO Adult Beverages)
X-ALT-DESC;FMTTYPE=text/html:Have Fun Painting\, for a Purpose! Paint a Valentine-themed painting\, and part of your registration fee will be donated to Santa Fe Texas Education Foundation&#39\;s classroom grant fund. (BYO Adult Beverages)
LOCATION:Painting with a Twist at 13013 Delaney Road\, La Marque
UID:e.451.5138
SEQUENCE:3
DTSTAMP:20260425T134424Z
URL:https://www.santafetxchamber.com/events/details/painting-with-a-twist-to-benefit-santa-fe-education-foundation-02-09-2016-5138
END:VEVENT

END:VCALENDAR
