BEGIN:VCALENDAR
VERSION:2.0
PRODID:-//ChamberMaster//Event Calendar 2.0//EN
METHOD:PUBLISH
X-PUBLISHED-TTL:P3D
REFRESH-INTERVAL:P3D
CALSCALE:GREGORIAN
BEGIN:VEVENT
DTSTART;VALUE=DATE:20161114
DTEND;VALUE=DATE:20161122
TRANSP:TRANSPARENT
X-MICROSOFT-CDO-ALLDAYEVENT:TRUE
SUMMARY:Operation Christmas Child SHOEBOX Collection Drop Off
DESCRIPTION:Operation Christmas Child SHOEBOX COLLECTION WEEK\n\nNovember 14th - 21st\n\nRelay Center Drop Off Location\n\nFirst Baptist Church of Alta Loma\n\n5400 Main/646 S\n\nSanta Fe\, Tx 77510\n\nPh # 409-925-3505\n\n\n\nFirst Baptist Church of Alta Loma will be a drop-off location\n\nfor items intended for Operation Christmas Child.
X-ALT-DESC;FMTTYPE=text/html:<strong><span style="color:#006600\;"><span style="font-family:calibri\,sans-serif\;">Operation Christmas Child SHOEBOX COLLECTION WEEK</span></span></strong><br />\n<strong><span style="color:black\;"><span style="font-family:calibri\,sans-serif\;">November 14th - 21st</span></span></strong><br />\n<strong><span style="color:#C00000\;"><span style="font-family:calibri\,sans-serif\;">Relay Center Drop Off Location</span></span></strong><br />\n<strong><span style="color:black\;"><span style="font-family:calibri\,sans-serif\;">First Baptist Church of Alta Loma</span></span></strong><br />\n<strong><span style="color:black\;"><span style="font-family:calibri\,sans-serif\;">5400 Main/646 S</span></span></strong><br />\n<strong><span style="color:black\;"><span style="font-family:calibri\,sans-serif\;">Santa Fe\, Tx 77510</span></span></strong><br />\n<strong><span style="color:black\;"><span style="font-family:calibri\,sans-serif\;"><span style="font-size:12.0pt\;">Ph # 409-925-3505<br />\n<br />\nFirst Baptist Church of Alta Loma will be a drop-off location<br />\nfor items intended for Operation Christmas Child.</span></span></span></strong>
LOCATION:
UID:e.451.6141
SEQUENCE:3
DTSTAMP:20260424T215619Z
URL:https://www.santafetxchamber.com/events/details/operation-christmas-child-shoebox-collection-drop-off-6141
END:VEVENT

END:VCALENDAR
