BEGIN:VCALENDAR
VERSION:2.0
PRODID:-//ChamberMaster//Event Calendar 2.0//EN
METHOD:PUBLISH
X-PUBLISHED-TTL:P3D
REFRESH-INTERVAL:P3D
CALSCALE:GREGORIAN
BEGIN:VEVENT
DTSTART;VALUE=DATE:20190109
DTEND;VALUE=DATE:20190110
TRANSP:TRANSPARENT
X-MICROSOFT-CDO-ALLDAYEVENT:TRUE
SUMMARY:NO MONTHLY MEMBERSHIP MEETING & LUNCHEON
DESCRIPTION:We will NOT host a Monthly Membership Meeting & Luncheon in January. Please mark your calendar for the second Wednesday in February\, March\, April\, May\, June\, August\, September\, October and November.
X-ALT-DESC;FMTTYPE=text/html:We will NOT host a Monthly Membership Meeting &amp\; Luncheon in January. Please mark your calendar for the second Wednesday in February\, March\, April\, May\, June\, August\, September\, October and November.
LOCATION:
UID:e.451.6669
SEQUENCE:3
DTSTAMP:20260423T083903Z
URL:https://www.santafetxchamber.com/events/details/no-monthly-membership-meeting-luncheon-6669
END:VEVENT

END:VCALENDAR
