BEGIN:VCALENDAR
VERSION:2.0
PRODID:-//ChamberMaster//Event Calendar 2.0//EN
METHOD:PUBLISH
X-PUBLISHED-TTL:P3D
REFRESH-INTERVAL:P3D
CALSCALE:GREGORIAN
BEGIN:VEVENT
DTSTART:20181002T230000Z
DTEND:20181003T020000Z
X-MICROSOFT-CDO-ALLDAYEVENT:FALSE
SUMMARY:National Night Out
DESCRIPTION:Santa Fe PD will be participating in National Night Out on October 2\, 2018 from 6-9pm. If you or your business\, neighborhood\, church etc. are going to host a National Night Out event or would like ideas to help plan a National Night out event please contact any of our certified crime prevention officers: @409-925-2000 or\n\nSgt. Robert Shores rshores@ci.santa-fe.tx.us\n\nOfc. Jesse Cannon jcannon@ci.santa-fe.tx.us\n\nOfc. Billy Klonaris bklonaris@ci.santa-fe.tx.us
X-ALT-DESC;FMTTYPE=text/html:<span style="color: rgb(29\, 33\, 41)\; font-family: Helvetica\, Arial\, sans-serif\; font-size: 14px\;">Santa Fe PD will be participating in National Night Out on October 2\, 2018 from 6-9pm. If you or your business\, neighborhood\, church etc. are going to host a National Night Out event or would like ideas to help plan a National Night out event please contact any of our certified crime prevention officers: @409-925-2000 or</span><br style="color: rgb(29\, 33\, 41)\; font-family: Helvetica\, Arial\, sans-serif\; font-size: 14px\;" />\n<span style="color: rgb(29\, 33\, 41)\; font-family: Helvetica\, Arial\, sans-serif\; font-size: 14px\;">Sgt. Robert Shores rshores@ci.santa-fe.tx.us</span><br style="color: rgb(29\, 33\, 41)\; font-family: Helvetica\, Arial\, sans-serif\; font-size: 14px\;" />\n<span style="color: rgb(29\, 33\, 41)\; font-family: Helvetica\, Arial\, sans-serif\; font-size: 14px\;">Ofc. Jesse Cannon jcannon@ci.santa-fe.tx.us</span><br style="color: rgb(29\, 33\, 41)\; font-family: Helvetica\, Arial\, sans-serif\; font-size: 14px\;" />\n<span style="color: rgb(29\, 33\, 41)\; font-family: Helvetica\, Arial\, sans-serif\; font-size: 14px\;">Ofc. Billy Klonaris bklonaris@ci.santa-fe.tx.us</span>
LOCATION:
UID:e.451.6621
SEQUENCE:3
DTSTAMP:20260423T131833Z
URL:https://www.santafetxchamber.com/events/details/national-night-out-6621
END:VEVENT

END:VCALENDAR
