BEGIN:VCALENDAR
VERSION:2.0
PRODID:-//ChamberMaster//Event Calendar 2.0//EN
METHOD:PUBLISH
X-PUBLISHED-TTL:P3D
REFRESH-INTERVAL:P3D
CALSCALE:GREGORIAN
BEGIN:VEVENT
DTSTART:20161004T230000Z
DTEND:20161005T030000Z
X-MICROSOFT-CDO-ALLDAYEVENT:FALSE
SUMMARY:National Night Out
DESCRIPTION:Tuesday\, October 4\, 2016 is National Night Out.\n\nNational Night Out is about getting out and meeting your neighbors and bringing the community together. If you would like to host an event in the community please email Detective Shores at rshores@ci.santa-fe.tx.us so that a representative from the police department can stop by as time permits.
X-ALT-DESC;FMTTYPE=text/html:<div _mce_style="text-align: center\;"><span _mce_style="font-family: Georgia\,Times New Roman\,Times\,serif\; font-size: 14pt\;" class="hasCaption" style="font-family: Georgia\,Times New Roman\,Times\,serif\; font-size: 14pt\;">Tuesday\, October 4\, 2016 is National Night Out.</span></div>\n\n<div _mce_style="text-align: center\;"><span _mce_style="font-family: Georgia\,Times New Roman\,Times\,serif\; font-size: 14pt\;" class="hasCaption" style="font-family: Georgia\,Times New Roman\,Times\,serif\; font-size: 14pt\;">National Night Out is about getting out and meeting your neighbors&nbsp\;and bringing the community together. If you would like to host an event&nbsp\;in the community please email Detective Shores at <a _mce_href="mailto:rshores@ci.santa-fe.tx.us" _mce_style="color: blue\; text-decoration: underline\;" href="mailto:rshores@ci.santa-fe.tx.us" linktype="2" style="color: blue !important\;" target="_blank">rshores@ci.santa-fe.tx.us</a>&nbsp\;so that a representative from the police department&nbsp\;can stop by as time permits.</span></div>\n
LOCATION:
UID:e.451.6115
SEQUENCE:3
DTSTAMP:20260424T215251Z
URL:https://www.santafetxchamber.com/events/details/national-night-out-6115
END:VEVENT

END:VCALENDAR
