BEGIN:VCALENDAR
VERSION:2.0
PRODID:-//ChamberMaster//Event Calendar 2.0//EN
METHOD:PUBLISH
X-PUBLISHED-TTL:P3D
REFRESH-INTERVAL:P3D
CALSCALE:GREGORIAN
BEGIN:VEVENT
DTSTART:20170511T220000Z
DTEND:20170512T010000Z
X-MICROSOFT-CDO-ALLDAYEVENT:FALSE
SUMMARY:My Special Occasion Open House
DESCRIPTION:
X-ALT-DESC;FMTTYPE=text/html:
LOCATION:
UID:e.451.6210
SEQUENCE:3
DTSTAMP:20260424T123410Z
URL:https://www.santafetxchamber.com/events/details/my-special-occasion-open-house-6210
END:VEVENT

END:VCALENDAR
