BEGIN:VCALENDAR
VERSION:2.0
PRODID:-//ChamberMaster//Event Calendar 2.0//EN
METHOD:PUBLISH
X-PUBLISHED-TTL:P3D
REFRESH-INTERVAL:P3D
CALSCALE:GREGORIAN
BEGIN:VEVENT
DTSTART:20160925T190000Z
DTEND:20160925T220000Z
X-MICROSOFT-CDO-ALLDAYEVENT:FALSE
SUMMARY:My Special Occasion Open House
DESCRIPTION:Come out to meet the new owners\, see the newly updated venue and meet My Special Occasion's great vendors!
X-ALT-DESC;FMTTYPE=text/html:Come out to meet the new owners\, see the newly updated venue and meet My Special Occasion&#39\;s great vendors!
LOCATION:My Special Occasion (located in Gulfway Plaza) 15001 Delany Rd. La Marque\, Texas
UID:e.451.5989
SEQUENCE:3
DTSTAMP:20260424T233055Z
URL:https://www.santafetxchamber.com/events/details/my-special-occasion-open-house-5989
END:VEVENT

END:VCALENDAR
