BEGIN:VCALENDAR
VERSION:2.0
PRODID:-//ChamberMaster//Event Calendar 2.0//EN
METHOD:PUBLISH
X-PUBLISHED-TTL:P3D
REFRESH-INTERVAL:P3D
CALSCALE:GREGORIAN
BEGIN:VEVENT
DTSTART:20190330T160000Z
DTEND:20190330T180000Z
X-MICROSOFT-CDO-ALLDAYEVENT:FALSE
SUMMARY:Mutton Bustin' - Galveston County Fair & Rodeo 2019
DESCRIPTION:Early Sign-Up\n\nFebruary 19th - March 28th\n\nRules & Sign-Up Form On-Line and available at the fair office beginning February 19th.\n\n\n\nAges 3-7\n\n$20 Entry Fee Early Sign-Up\n\n$25 Entry Fee Cash Only on March 30th
X-ALT-DESC;FMTTYPE=text/html:Early Sign-Up<br />\nFebruary 19th - March 28th<br />\nRules &amp\; Sign-Up Form On-Line and available at the fair office beginning February 19th.<br />\n<br />\nAges 3-7<br />\n$20 Entry Fee Early Sign-Up<br />\n$25 Entry Fee Cash Only on March 30th
LOCATION:
UID:e.451.6709
SEQUENCE:3
DTSTAMP:20260423T051944Z
URL:https://www.santafetxchamber.com/events/details/mutton-bustin-galveston-county-fair-rodeo-2019-6709
END:VEVENT

END:VCALENDAR
