BEGIN:VCALENDAR
VERSION:2.0
PRODID:-//ChamberMaster//Event Calendar 2.0//EN
METHOD:PUBLISH
X-PUBLISHED-TTL:P3D
REFRESH-INTERVAL:P3D
CALSCALE:GREGORIAN
BEGIN:VEVENT
DTSTART:20190822T230000Z
DTEND:20190823T000000Z
X-MICROSOFT-CDO-ALLDAYEVENT:FALSE
SUMMARY:Music Therapy
DESCRIPTION:Two Sessions Available\n\n\n\nCity of Santa Fe Resiliency Center\n\nlocated at Aldersgate United Methodist Church\n\n13217 FM 1764 in Santa Fe\n\n\n\nhttps://www.facebook.com/pg/santafestrongresiliencycenter/events/?ref=page_internal
X-ALT-DESC;FMTTYPE=text/html:Two Sessions Available<br />\n<br />\nCity of Santa Fe Resiliency Center<br />\nlocated at Aldersgate United Methodist Church<br />\n13217 FM 1764 in Santa Fe<br />\n<br />\n<a href="https://www.facebook.com/pg/santafestrongresiliencycenter/events/?ref=page_internal" target="_blank">https://www.facebook.com/pg/santafestrongresiliencycenter/events/?ref=page_internal</a>
LOCATION:
UID:e.451.7591
SEQUENCE:3
DTSTAMP:20260422T223023Z
URL:https://www.santafetxchamber.com/events/details/music-therapy-08-22-2019-7591
END:VEVENT

END:VCALENDAR
