BEGIN:VCALENDAR
VERSION:2.0
PRODID:-//ChamberMaster//Event Calendar 2.0//EN
METHOD:PUBLISH
X-PUBLISHED-TTL:P3D
REFRESH-INTERVAL:P3D
CALSCALE:GREGORIAN
BEGIN:VEVENT
DTSTART:20231011T163000Z
DTEND:20231011T180000Z
X-MICROSOFT-CDO-ALLDAYEVENT:FALSE
SUMMARY:Monthly Investor Meeting & Luncheon
DESCRIPTION:
X-ALT-DESC;FMTTYPE=text/html:
LOCATION:The Hidden Palms 3706 Ave. E 1/2 Santa Fe\, Texas
UID:e.451.9011
SEQUENCE:3
DTSTAMP:20260419T192914Z
URL:https://www.santafetxchamber.com/events/details/monthly-investor-meeting-luncheon-9011
END:VEVENT

END:VCALENDAR
