BEGIN:VCALENDAR
VERSION:2.0
PRODID:-//ChamberMaster//Event Calendar 2.0//EN
METHOD:PUBLISH
X-PUBLISHED-TTL:P3D
REFRESH-INTERVAL:P3D
CALSCALE:GREGORIAN
BEGIN:VEVENT
DTSTART:20231108T173000Z
DTEND:20231108T190000Z
X-MICROSOFT-CDO-ALLDAYEVENT:FALSE
SUMMARY:Monthly Investor Meeting & Luncheon
DESCRIPTION:Our November 8\, 2023 lunch is also the Santa Fe Chamber\, Inc Annual Meeting where eligible chamber members will vote on the six open board positions. The applicants are as follows: \n\n \n\n-Terri O'Connell- Odyssey Academy \n\n-Dana Huoni   Antiotic Endeavors \n\n-Kevin Croft   Dream Vacations \n\n-April Ciccarello- UTMB Health \n\n-Robert Bracknell- Shine-Rite \n\n-John Hamilton   Tideland Grease Trap \n\n-Brandon Noto- Councilmember \n\n-Abbigayle Kate Hart- Hart 2 Hart Stitching \n\n \n\nIn person voting will take place at the lunch on November 8th. If you are unable to attend the lunch an online ballot will be sent out next week and will need to be completed by Tuesday\, November 7\, 2023 by 12:00 pm.
X-ALT-DESC;FMTTYPE=text/html:<span style="color:#3E3E3E\;"><span style="font-family:georgia\,serif\;"><span style="font-size:19.5pt\;">Our November 8\, 2023 lunch is also the Santa Fe Chamber\, Inc Annual Meeting where eligible chamber members will vote on the six open board positions. The applicants are as follows: </span></span></span><br />\n&nbsp\;<br />\n<span style="color:#3E3E3E\;"><span style="font-family:georgia\,serif\;"><span style="font-size:19.5pt\;">-Terri O&rsquo\;Connell- Odyssey Academy </span></span></span><br />\n<span style="color:#3E3E3E\;"><span style="font-family:georgia\,serif\;"><span style="font-size:19.5pt\;">-Dana Huoni &ndash\; Antiotic Endeavors </span></span></span><br />\n<span style="color:#3E3E3E\;"><span style="font-family:georgia\,serif\;"><span style="font-size:19.5pt\;">-Kevin Croft &ndash\; Dream Vacations </span></span></span><br />\n<span style="color:#3E3E3E\;"><span style="font-family:georgia\,serif\;"><span style="font-size:19.5pt\;">-April Ciccarello- UTMB Health </span></span></span><br />\n<span style="color:#3E3E3E\;"><span style="font-family:georgia\,serif\;"><span style="font-size:19.5pt\;">-Robert Bracknell- Shine-Rite </span></span></span><br />\n<span style="color:#3E3E3E\;"><span style="font-family:georgia\,serif\;"><span style="font-size:19.5pt\;">-John Hamilton &ndash\; Tideland Grease Trap </span></span></span><br />\n<span style="color:#3E3E3E\;"><span style="font-family:georgia\,serif\;"><span style="font-size:19.5pt\;">-Brandon Noto- Councilmember </span></span></span><br />\n<span style="color:#3E3E3E\;"><span style="font-family:georgia\,serif\;"><span style="font-size:19.5pt\;">-Abbigayle Kate Hart- Hart 2 Hart Stitching </span></span></span><br />\n&nbsp\;<br />\n<span style="color:#3E3E3E\;"><span style="font-family:georgia\,serif\;"><span style="font-size:17.5pt\;">In person voting will take place at the lunch on November 8th.&nbsp\;If you are unable to attend the lunch an online ballot will be sent out next week and will need to be completed by Tuesday\, November 7\, 2023 by 12:00 pm.&nbsp\;</span></span></span>
LOCATION:The Hidden Palms 3706 Ave. E 1/2 Santa Fe\, Texas
UID:e.451.8184
SEQUENCE:3
DTSTAMP:20260419T182205Z
URL:https://www.santafetxchamber.com/events/details/monthly-investor-meeting-luncheon-8184
END:VEVENT

END:VCALENDAR
