BEGIN:VCALENDAR
VERSION:2.0
PRODID:-//ChamberMaster//Event Calendar 2.0//EN
METHOD:PUBLISH
X-PUBLISHED-TTL:P3D
REFRESH-INTERVAL:P3D
CALSCALE:GREGORIAN
BEGIN:VEVENT
DTSTART:20170208T173000Z
DTEND:20170208T190000Z
X-MICROSOFT-CDO-ALLDAYEVENT:FALSE
SUMMARY:Membership Meeting & Luncheon
DESCRIPTION:Speaker:  Dr. Leigh Wall will provide an SFISD update\n\n\n\nLunch Provided by: Gio's Flying Pizza
X-ALT-DESC;FMTTYPE=text/html:Speaker: &nbsp\;Dr. Leigh Wall will provide an SFISD update<br />\n<br />\nLunch Provided by: Gio&#39\;s Flying Pizza
LOCATION:Pentecostals of Santa Fe Church 12811 FM 1764 Santa Fe\, Texas
UID:e.451.6151
SEQUENCE:3
DTSTAMP:20260424T155127Z
URL:https://www.santafetxchamber.com/events/details/membership-meeting-luncheon-6151
END:VEVENT

END:VCALENDAR
