BEGIN:VCALENDAR
VERSION:2.0
PRODID:-//ChamberMaster//Event Calendar 2.0//EN
METHOD:PUBLISH
X-PUBLISHED-TTL:P3D
REFRESH-INTERVAL:P3D
CALSCALE:GREGORIAN
BEGIN:VEVENT
DTSTART:20170111T173000Z
DTEND:20170111T190000Z
X-MICROSOFT-CDO-ALLDAYEVENT:FALSE
SUMMARY:Membership Meeting & Luncheon
DESCRIPTION:Speaker: Retired Astronaut\, Scott Kelly\n\n              The Sky is Not the Limit
X-ALT-DESC;FMTTYPE=text/html:Speaker: Retired Astronaut\, Scott Kelly<br />\n&nbsp\; &nbsp\; &nbsp\; &nbsp\; &nbsp\; &nbsp\; &nbsp\; The Sky is Not the Limit
LOCATION:Pentecostals of Santa Fe\, Back Building 12811 FM 1764 Santa Fe\, Texas
UID:e.451.6150
SEQUENCE:3
DTSTAMP:20260424T185306Z
URL:https://www.santafetxchamber.com/events/details/membership-meeting-luncheon-6150
END:VEVENT

END:VCALENDAR
