BEGIN:VCALENDAR
VERSION:2.0
PRODID:-//ChamberMaster//Event Calendar 2.0//EN
METHOD:PUBLISH
X-PUBLISHED-TTL:P3D
REFRESH-INTERVAL:P3D
CALSCALE:GREGORIAN
BEGIN:VEVENT
DTSTART:20170614T163000Z
DTEND:20170614T180000Z
X-MICROSOFT-CDO-ALLDAYEVENT:FALSE
SUMMARY:Membership Meeting & Luncheon
DESCRIPTION:Speaker:  Cheryl Johnson\, Galveston County Tax Assessor Collector\n\n\n\nLunch Provided by: Gio's Flying Pizza
X-ALT-DESC;FMTTYPE=text/html:Speaker: &nbsp\;Cheryl Johnson\, Galveston County Tax Assessor Collector<br />\n<br />\nLunch Provided by: Gio&#39\;s&nbsp\;Flying Pizza
LOCATION:Pentecostals of Santa Fe Church 12811 FM 1764 Santa Fe\, Texas
UID:e.451.6167
SEQUENCE:3
DTSTAMP:20260424T100004Z
URL:https://www.santafetxchamber.com/events/details/membership-meeting-luncheon-06-14-2017-6167
END:VEVENT

END:VCALENDAR
